BEGIN:VCALENDAR
VERSION:2.0
PRODID:-//ACRES Land Trust - ECPv6.15.20//NONSGML v1.0//EN
CALSCALE:GREGORIAN
METHOD:PUBLISH
X-ORIGINAL-URL:https://acreslandtrust.org
X-WR-CALDESC:Events for ACRES Land Trust
REFRESH-INTERVAL;VALUE=DURATION:PT1H
X-Robots-Tag:noindex
X-PUBLISHED-TTL:PT1H
BEGIN:VTIMEZONE
TZID:America/Indiana/Indianapolis
BEGIN:DAYLIGHT
TZOFFSETFROM:-0500
TZOFFSETTO:-0400
TZNAME:EDT
DTSTART:20250309T070000
END:DAYLIGHT
BEGIN:STANDARD
TZOFFSETFROM:-0400
TZOFFSETTO:-0500
TZNAME:EST
DTSTART:20251102T060000
END:STANDARD
BEGIN:DAYLIGHT
TZOFFSETFROM:-0500
TZOFFSETTO:-0400
TZNAME:EDT
DTSTART:20260308T070000
END:DAYLIGHT
BEGIN:STANDARD
TZOFFSETFROM:-0400
TZOFFSETTO:-0500
TZNAME:EST
DTSTART:20261101T060000
END:STANDARD
BEGIN:DAYLIGHT
TZOFFSETFROM:-0500
TZOFFSETTO:-0400
TZNAME:EDT
DTSTART:20270314T070000
END:DAYLIGHT
BEGIN:STANDARD
TZOFFSETFROM:-0400
TZOFFSETTO:-0500
TZNAME:EST
DTSTART:20271107T060000
END:STANDARD
END:VTIMEZONE
BEGIN:VEVENT
DTSTART;TZID=America/Indiana/Indianapolis:20260429T180000
DTEND;TZID=America/Indiana/Indianapolis:20260429T200000
DTSTAMP:20260424T060915
CREATED:20260326T192145Z
LAST-MODIFIED:20260422T181828Z
UID:10000327-1777485600-1777492800@acreslandtrust.org
SUMMARY:Earth\, Wine & Fire
DESCRIPTION:Join ACRES Land Trust\, Daylily Estates and Eco Fest Fort Wayne for a spring gathering that brings wine\, land stewardship\, and community together. Set inside a historic barn on ACRES Land Trust property and perfectly timed around Earth Day\, the evening will feature a guided tasting with the winemaker\, exploring sustainable winemaking alongside thoughtfully paired locally sourced snacks. \nDaylily Estates will share the story behind the wines\, from regenerative farming to fully off-grid production. ACRES and Eco Fest Fort Wayne speak to the landscapes and environmental work shaping our region’s future. \nGood wine\, tasty snacks\, open fire\, and thoughtful conversation\, shared with a small group around community-style seating. \nPurchase Tickets
URL:https://acreslandtrust.org/event/earth-wine-fire/
LOCATION:Dustin Barn\, 1992 Chapman Road\, Huntertown\, IN\, 46748\, United States
CATEGORIES:Event
ATTACH;FMTTYPE=image/jpeg:https://acreslandtrust.org/wp-content/uploads/2026/03/4.jpg
END:VEVENT
END:VCALENDAR