BEGIN:VCALENDAR
VERSION:2.0
PRODID:-//ACRES Land Trust - ECPv6.15.20//NONSGML v1.0//EN
CALSCALE:GREGORIAN
METHOD:PUBLISH
X-WR-CALNAME:ACRES Land Trust
X-ORIGINAL-URL:https://acreslandtrust.org
X-WR-CALDESC:Events for ACRES Land Trust
REFRESH-INTERVAL;VALUE=DURATION:PT1H
X-Robots-Tag:noindex
X-PUBLISHED-TTL:PT1H
BEGIN:VTIMEZONE
TZID:America/Indiana/Indianapolis
BEGIN:DAYLIGHT
TZOFFSETFROM:-0500
TZOFFSETTO:-0400
TZNAME:EDT
DTSTART:20250309T070000
END:DAYLIGHT
BEGIN:STANDARD
TZOFFSETFROM:-0400
TZOFFSETTO:-0500
TZNAME:EST
DTSTART:20251102T060000
END:STANDARD
BEGIN:DAYLIGHT
TZOFFSETFROM:-0500
TZOFFSETTO:-0400
TZNAME:EDT
DTSTART:20260308T070000
END:DAYLIGHT
BEGIN:STANDARD
TZOFFSETFROM:-0400
TZOFFSETTO:-0500
TZNAME:EST
DTSTART:20261101T060000
END:STANDARD
BEGIN:DAYLIGHT
TZOFFSETFROM:-0500
TZOFFSETTO:-0400
TZNAME:EDT
DTSTART:20270314T070000
END:DAYLIGHT
BEGIN:STANDARD
TZOFFSETFROM:-0400
TZOFFSETTO:-0500
TZNAME:EST
DTSTART:20271107T060000
END:STANDARD
END:VTIMEZONE
BEGIN:VEVENT
DTSTART;TZID=America/Indiana/Indianapolis:20260425T093000
DTEND;TZID=America/Indiana/Indianapolis:20260425T113000
DTSTAMP:20260422T203354
CREATED:20260213T165612Z
LAST-MODIFIED:20260213T180332Z
UID:10000303-1777109400-1777116600@acreslandtrust.org
SUMMARY:Old-Growth Forest Network Induction
DESCRIPTION:Celebrating Edna W. Spurgeon Woodland Reserve’s Induction into the Old-Growth Forest Network \nJoin us to celebrate the induction of Edna W. Spurgeon Woodland Reserve’s mature forest into the Old-Growth Forest Network\, a national group working to identify and protect native\, old-growth and future old-growth forests across the country. \nBy joining this network\, we’re helping build not only a network of forests\, but also an alliance of people who care about forests. \nA representative from the Old-Growth Forest Network will join us for a brief dedication ceremony\, followed by a guided walk where you’ll learn about the land’s history and unique natural features. Together\, we’ll explore why long-term forest protection matters for our region and how you can support the ongoing care and stewardship of this special place. \nPlease RSVP by April 23. \nRSVP Now
URL:https://acreslandtrust.org/event/old-growth-forest-designation-celebration/
LOCATION:Edna W. Spurgeon Woodland Reserve\, 9478 N. 600 W.\, Ligonier\, IN\, 46767\, United States
CATEGORIES:Event
ATTACH;FMTTYPE=image/jpeg:https://acreslandtrust.org/wp-content/uploads/2026/02/2026.04.25_Spurgeon_OldGrowthForestNetwork_InductionCelebration.jpg
ORGANIZER;CN="ACRES Land Trust":MAILTO:acres@acreslandtrust.org
END:VEVENT
END:VCALENDAR